BEGIN:VCALENDAR
VERSION:2.0
PRODID:-//Christliche Versammlung Sindelfingen - ECPv6.15.15//NONSGML v1.0//EN
CALSCALE:GREGORIAN
METHOD:PUBLISH
X-WR-CALNAME:Christliche Versammlung Sindelfingen
X-ORIGINAL-URL:https://cg-ehningen.de
X-WR-CALDESC:Veranstaltungen für Christliche Versammlung Sindelfingen
REFRESH-INTERVAL;VALUE=DURATION:PT1H
X-Robots-Tag:noindex
X-PUBLISHED-TTL:PT1H
BEGIN:VTIMEZONE
TZID:Europe/Berlin
BEGIN:DAYLIGHT
TZOFFSETFROM:+0100
TZOFFSETTO:+0200
TZNAME:CEST
DTSTART:20240331T010000
END:DAYLIGHT
BEGIN:STANDARD
TZOFFSETFROM:+0200
TZOFFSETTO:+0100
TZNAME:CET
DTSTART:20241027T010000
END:STANDARD
BEGIN:DAYLIGHT
TZOFFSETFROM:+0100
TZOFFSETTO:+0200
TZNAME:CEST
DTSTART:20250330T010000
END:DAYLIGHT
BEGIN:STANDARD
TZOFFSETFROM:+0200
TZOFFSETTO:+0100
TZNAME:CET
DTSTART:20251026T010000
END:STANDARD
BEGIN:DAYLIGHT
TZOFFSETFROM:+0100
TZOFFSETTO:+0200
TZNAME:CEST
DTSTART:20260329T010000
END:DAYLIGHT
BEGIN:STANDARD
TZOFFSETFROM:+0200
TZOFFSETTO:+0100
TZNAME:CET
DTSTART:20261025T010000
END:STANDARD
END:VTIMEZONE
BEGIN:VEVENT
DTSTART;TZID=Europe/Berlin:20250412T080000
DTEND;TZID=Europe/Berlin:20250412T110000
DTSTAMP:20260421T114746
CREATED:20250402T080905Z
LAST-MODIFIED:20250406T151234Z
UID:5757-1744444800-1744455600@cg-ehningen.de
SUMMARY:Osterstand auf dem Marktplatz in Sindelfingen 🐣 Samstag\, 12. April 2025 von 9-12 Uhr
DESCRIPTION:An unserem Osterstand auf dem Marktplatz in Sindelfingen verschenken wir – passend zum Osterfest – aktuelle Magazine & christliche Literatur zum Thema des Auferstehungsfestes. Ebenso gibt es deftiges und süßes für Klein und Groß. \nKommen Sie gerne vorbei! Wir sind immer offen für Gespräche & Austausch zu Fragen zum christlichen Glauben.
URL:https://cg-ehningen.de/event/osterstand-auf-dem-marktplatz-in-sindelfingen/
LOCATION:Marktplatz Sindelfingen\, Marktpl.\, 71063 Sindelfingen\, Sindelfingen\, Deutschland
ORGANIZER;CN="Christliche Versammlung Sindelfingen":MAILTO:info@cv-sindelfingen.de
END:VEVENT
BEGIN:VEVENT
DTSTART;TZID=Europe/Berlin:20250416T183000
DTEND;TZID=Europe/Berlin:20250416T203000
DTSTAMP:20260421T114746
CREATED:20250412T172644Z
LAST-MODIFIED:20250412T173756Z
UID:5784-1744828200-1744835400@cg-ehningen.de
SUMMARY:Herzliche Einladung zu unserem Missions- & Gebetsabend
DESCRIPTION:Komm gerne vorbei\, wenn Eleazar Müller von seinem “Hoffnungszentrum-Projekt”\nin Pakistan berichtet. \n \nNach seinem Vortrag bist Du herzlich dazu eingeladen\, den Abend mit guter Gemeinschaft und einem leckeren Fingerfood Buffet ausklingen zu lassen. 😊
URL:https://cg-ehningen.de/event/herzliche-einladung-zu-unserem-missions-gebetsabend/
LOCATION:Christliche Versammlung Sindelfingen\, Stralsunder Straße 6\, Sindelfingen\, Baden-Württemberg\, 71065\, Deutschland
END:VEVENT
BEGIN:VEVENT
DTSTART;TZID=Europe/Berlin:20250418T090000
DTEND;TZID=Europe/Berlin:20250418T103000
DTSTAMP:20260421T114746
CREATED:20250411T041516Z
LAST-MODIFIED:20250411T041751Z
UID:5768-1744966800-1744972200@cg-ehningen.de
SUMMARY:Herzliche Einladung zu unserem Gottesdienst an Karfreitag!
DESCRIPTION:Komm gerne vorbei zu unserem Gottesdienst an Karfreitag. \nSein letztes Gebet galt dir!\nSein letzter Schmerz galt dir!\nSeine letzte Hingabe galt dir!\n \nDenn ihr sollt so gesinnt sein\, wie es Christus Jesus auch war\, der\, als er in der Gestalt Gottes war\, es nicht wie einen Raub festhielt\, Gott gleich zu sein; sondern er entäußerte sich selbst\, nahm die Gestalt eines Knechtes an und wurde wie die Menschen; und in seiner äußeren Erscheinung als ein Mensch erfunden\, erniedrigte er sich selbst und wurde gehorsam bis zum Tod\, ja bis zum Tod am Kreuz.\nPhilipper 2:5-8
URL:https://cg-ehningen.de/event/herzliche-einladung/
LOCATION:Christliche Versammlung Sindelfingen\, Stralsunder Straße 6\, Sindelfingen\, Baden-Württemberg\, 71065\, Deutschland
END:VEVENT
BEGIN:VEVENT
DTSTART;TZID=Europe/Berlin:20250420T090000
DTEND;TZID=Europe/Berlin:20250420T103000
DTSTAMP:20260421T114746
CREATED:20250411T042741Z
LAST-MODIFIED:20250411T043338Z
UID:5773-1745139600-1745145000@cg-ehningen.de
SUMMARY:Herzliche Einladung zu unserem Gottesdienst an Ostersonntag!
DESCRIPTION:Komm gerne vorbei zu unserem Gottesdienst an Ostersonntag. \nWas für eine gute Nachricht\, dass Jesus lebt! \n\nDer Engel aber wandte sich zu den Frauen und sprach: Fürchtet ihr euch nicht! Ich weiß wohl\, dass ihr Jesus\, den Gekreuzigten\, sucht. Er ist nicht hier\, denn er ist auferstanden\, wie er gesagt hat. Kommt her\, seht den Ort\, wo der Herr gelegen hat!\nMatthäus 28:5-6
URL:https://cg-ehningen.de/event/herzliche-einladung-zu-unserem-gottesdienst-am-ostersonntag/
LOCATION:Christliche Versammlung Sindelfingen\, Stralsunder Straße 6\, Sindelfingen\, Baden-Württemberg\, 71065\, Deutschland
END:VEVENT
END:VCALENDAR