BEGIN:VCALENDAR
VERSION:2.0
PRODID:-//Christliche Versammlung Sindelfingen - ECPv6.15.15//NONSGML v1.0//EN
CALSCALE:GREGORIAN
METHOD:PUBLISH
X-ORIGINAL-URL:https://cg-ehningen.de
X-WR-CALDESC:Veranstaltungen für Christliche Versammlung Sindelfingen
REFRESH-INTERVAL;VALUE=DURATION:PT1H
X-Robots-Tag:noindex
X-PUBLISHED-TTL:PT1H
BEGIN:VTIMEZONE
TZID:Europe/Berlin
BEGIN:DAYLIGHT
TZOFFSETFROM:+0100
TZOFFSETTO:+0200
TZNAME:CEST
DTSTART:20230326T010000
END:DAYLIGHT
BEGIN:STANDARD
TZOFFSETFROM:+0200
TZOFFSETTO:+0100
TZNAME:CET
DTSTART:20231029T010000
END:STANDARD
BEGIN:DAYLIGHT
TZOFFSETFROM:+0100
TZOFFSETTO:+0200
TZNAME:CEST
DTSTART:20240331T010000
END:DAYLIGHT
BEGIN:STANDARD
TZOFFSETFROM:+0200
TZOFFSETTO:+0100
TZNAME:CET
DTSTART:20241027T010000
END:STANDARD
BEGIN:DAYLIGHT
TZOFFSETFROM:+0100
TZOFFSETTO:+0200
TZNAME:CEST
DTSTART:20250330T010000
END:DAYLIGHT
BEGIN:STANDARD
TZOFFSETFROM:+0200
TZOFFSETTO:+0100
TZNAME:CET
DTSTART:20251026T010000
END:STANDARD
END:VTIMEZONE
BEGIN:VEVENT
DTSTART;TZID=Europe/Berlin:20241006T091500
DTEND;TZID=Europe/Berlin:20241006T103000
DTSTAMP:20260423T170635
CREATED:20240930T122043Z
LAST-MODIFIED:20240930T122043Z
UID:5522-1728206100-1728210600@cg-ehningen.de
SUMMARY:Erntedank Gottesdienst 2024
DESCRIPTION:Herzliche Einladung zum Erntedank Gottesdienst am 6. Oktober 2024!\nWir feiern gemeinsam diesen besonderen Erntedank Gottesdienst um unserem Gott für alle Versorgung und seine Treue zu danken! \n \n 
URL:https://cg-ehningen.de/event/erntedank-gottesdienst-2024/
LOCATION:Christliche Versammlung Sindelfingen\, Stralsunder Straße 6\, Sindelfingen\, Baden-Württemberg\, 71065\, Deutschland
ORGANIZER;CN="Christliche Versammlung Sindelfingen":MAILTO:info@cv-sindelfingen.de
END:VEVENT
BEGIN:VEVENT
DTSTART;TZID=Europe/Berlin:20241016T183000
DTEND;TZID=Europe/Berlin:20241016T200000
DTSTAMP:20260423T170635
CREATED:20240415T043443Z
LAST-MODIFIED:20240911T111347Z
UID:5254-1729103400-1729108800@cg-ehningen.de
SUMMARY:Einladung zu unseren Bibelstunden
DESCRIPTION:Herzliche Einladung zu unseren Bibelstunden! \nBibel studieren 📖. Aber wie❓️ \nEin Mittwoch im Monat – 19:30 Uhr \nSei dabei!😊
URL:https://cg-ehningen.de/event/einladung-zu-unseren-bibelstunden/
LOCATION:Christliche Versammlung Sindelfingen\, Stralsunder Straße 6\, Sindelfingen\, Baden-Württemberg\, 71065\, Deutschland
ORGANIZER;CN="Christliche Versammlung Sindelfingen":MAILTO:info@cv-sindelfingen.de
END:VEVENT
BEGIN:VEVENT
DTSTART;TZID=Europe/Berlin:20241031T170000
DTEND;TZID=Europe/Berlin:20241031T190000
DTSTAMP:20260423T170635
CREATED:20241013T114428Z
LAST-MODIFIED:20241013T114842Z
UID:5567-1730394000-1730401200@cg-ehningen.de
SUMMARY:Jungschar Filmabend am 31.10.2024
DESCRIPTION:Herzliche Einladung zu unserem Filmabend am 31.10.2024!🍿🎬 \nAlle Kinder ab der 1. Klasse (bis 13 Jahre) heißen wir dazu herzlich willkommen.😊
URL:https://cg-ehningen.de/event/jungschar-filmabend-am-31-10-2024/
LOCATION:Christliche Versammlung Sindelfingen\, Stralsunder Straße 6\, Sindelfingen\, Baden-Württemberg\, 71065\, Deutschland
CATEGORIES:Gemeinschaft
ORGANIZER;CN="Christliche Versammlung Sindelfingen":MAILTO:info@cv-sindelfingen.de
END:VEVENT
END:VCALENDAR