BEGIN:VCALENDAR
VERSION:2.0
PRODID:-//Christliche Versammlung Sindelfingen - ECPv6.15.15//NONSGML v1.0//EN
CALSCALE:GREGORIAN
METHOD:PUBLISH
X-ORIGINAL-URL:https://cg-ehningen.de
X-WR-CALDESC:Veranstaltungen für Christliche Versammlung Sindelfingen
REFRESH-INTERVAL;VALUE=DURATION:PT1H
X-Robots-Tag:noindex
X-PUBLISHED-TTL:PT1H
BEGIN:VTIMEZONE
TZID:Europe/Berlin
BEGIN:DAYLIGHT
TZOFFSETFROM:+0100
TZOFFSETTO:+0200
TZNAME:CEST
DTSTART:20230326T010000
END:DAYLIGHT
BEGIN:STANDARD
TZOFFSETFROM:+0200
TZOFFSETTO:+0100
TZNAME:CET
DTSTART:20231029T010000
END:STANDARD
BEGIN:DAYLIGHT
TZOFFSETFROM:+0100
TZOFFSETTO:+0200
TZNAME:CEST
DTSTART:20240331T010000
END:DAYLIGHT
BEGIN:STANDARD
TZOFFSETFROM:+0200
TZOFFSETTO:+0100
TZNAME:CET
DTSTART:20241027T010000
END:STANDARD
BEGIN:DAYLIGHT
TZOFFSETFROM:+0100
TZOFFSETTO:+0200
TZNAME:CEST
DTSTART:20250330T010000
END:DAYLIGHT
BEGIN:STANDARD
TZOFFSETFROM:+0200
TZOFFSETTO:+0100
TZNAME:CET
DTSTART:20251026T010000
END:STANDARD
END:VTIMEZONE
BEGIN:VEVENT
DTSTART;TZID=Europe/Berlin:20240529T183000
DTEND;TZID=Europe/Berlin:20240529T200000
DTSTAMP:20260425T165006
CREATED:20240428T160850Z
LAST-MODIFIED:20240428T161422Z
UID:5274-1717007400-1717012800@cg-ehningen.de
SUMMARY:Vom TOR DES MONATS zum TOR DES LEBENS. Die Geschichte von Klaus Mehler.
DESCRIPTION:Herzliche Einladung zum Vortragsabend mit Klaus Mehler! \nKlaus Mehler berichtet aus seinem Leben – Ein Leben zwischen Fußball\,  Karriere\, Lebenskrise und Glauben.  \nEbenfalls berichtet er von einer spannenden Arbeit\, die er unterstützt: Die DSCHUNGEL PILOTEN – Fliegen aus Nächstenliebe im Auftrag des Herrn.
URL:https://cg-ehningen.de/event/vom-tor-des-monats-zum-tor-des-lebens-die-geschichte-von-klaus-mehler/
LOCATION:Christliche Versammlung Sindelfingen\, Stralsunder Straße 6\, Sindelfingen\, Baden-Württemberg\, 71065\, Deutschland
END:VEVENT
END:VCALENDAR