BEGIN:VCALENDAR
VERSION:2.0
PRODID:-//Christliche Versammlung Sindelfingen - ECPv6.15.15//NONSGML v1.0//EN
CALSCALE:GREGORIAN
METHOD:PUBLISH
X-WR-CALNAME:Christliche Versammlung Sindelfingen
X-ORIGINAL-URL:https://cg-ehningen.de
X-WR-CALDESC:Veranstaltungen für Christliche Versammlung Sindelfingen
REFRESH-INTERVAL;VALUE=DURATION:PT1H
X-Robots-Tag:noindex
X-PUBLISHED-TTL:PT1H
BEGIN:VTIMEZONE
TZID:Europe/Berlin
BEGIN:DAYLIGHT
TZOFFSETFROM:+0100
TZOFFSETTO:+0200
TZNAME:CEST
DTSTART:20230326T010000
END:DAYLIGHT
BEGIN:STANDARD
TZOFFSETFROM:+0200
TZOFFSETTO:+0100
TZNAME:CET
DTSTART:20231029T010000
END:STANDARD
BEGIN:DAYLIGHT
TZOFFSETFROM:+0100
TZOFFSETTO:+0200
TZNAME:CEST
DTSTART:20240331T010000
END:DAYLIGHT
BEGIN:STANDARD
TZOFFSETFROM:+0200
TZOFFSETTO:+0100
TZNAME:CET
DTSTART:20241027T010000
END:STANDARD
BEGIN:DAYLIGHT
TZOFFSETFROM:+0100
TZOFFSETTO:+0200
TZNAME:CEST
DTSTART:20250330T010000
END:DAYLIGHT
BEGIN:STANDARD
TZOFFSETFROM:+0200
TZOFFSETTO:+0100
TZNAME:CET
DTSTART:20251026T010000
END:STANDARD
END:VTIMEZONE
BEGIN:VEVENT
DTSTART;TZID=Europe/Berlin:20241114T183000
DTEND;TZID=Europe/Berlin:20241114T193000
DTSTAMP:20260423T170337
CREATED:20240907T171729Z
LAST-MODIFIED:20241107T132236Z
UID:5472-1731609000-1731612600@cg-ehningen.de
SUMMARY:CHRISTsein entdecken!
DESCRIPTION:Herzliche Einladung zu unserem Kurs CHRISTsein entdecken!\nWie der Titel sagt\, geht es darum gemeinsam zu entdecken\, was CHRISTsein bedeutet. Wir beschäftigen uns mit Fragen\, wie: \nWer ist Jesus?\nWarum ist Jesus gekommen?\nWas hat es mit Jesu Tod auf sich?\nWas ist ewiges Leben? \nInteresse?\nMelde dich an unter: info@cv-sindelfingen.de \nDie Termine der Kursabende:\nImmer donnerstags ab 19:30 Uhr\n10.10.2024\n17.10.2024\n24.10.2024\n31.10.2024\n07.11.2024\n14.11.2024 \nWir freuen uns auf Dich!
URL:https://cg-ehningen.de/event/christsein-entdecken/
LOCATION:Christliche Versammlung Sindelfingen\, Stralsunder Straße 6\, Sindelfingen\, Baden-Württemberg\, 71065\, Deutschland
ORGANIZER;CN="Christliche Versammlung Sindelfingen":MAILTO:info@cv-sindelfingen.de
END:VEVENT
END:VCALENDAR