BEGIN:VCALENDAR
VERSION:2.0
PRODID:-//Christliche Versammlung Sindelfingen - ECPv6.15.15//NONSGML v1.0//EN
CALSCALE:GREGORIAN
METHOD:PUBLISH
X-ORIGINAL-URL:https://cg-ehningen.de
X-WR-CALDESC:Veranstaltungen für Christliche Versammlung Sindelfingen
REFRESH-INTERVAL;VALUE=DURATION:PT1H
X-Robots-Tag:noindex
X-PUBLISHED-TTL:PT1H
BEGIN:VTIMEZONE
TZID:Europe/Berlin
BEGIN:DAYLIGHT
TZOFFSETFROM:+0100
TZOFFSETTO:+0200
TZNAME:CEST
DTSTART:20230326T010000
END:DAYLIGHT
BEGIN:STANDARD
TZOFFSETFROM:+0200
TZOFFSETTO:+0100
TZNAME:CET
DTSTART:20231029T010000
END:STANDARD
BEGIN:DAYLIGHT
TZOFFSETFROM:+0100
TZOFFSETTO:+0200
TZNAME:CEST
DTSTART:20240331T010000
END:DAYLIGHT
BEGIN:STANDARD
TZOFFSETFROM:+0200
TZOFFSETTO:+0100
TZNAME:CET
DTSTART:20241027T010000
END:STANDARD
BEGIN:DAYLIGHT
TZOFFSETFROM:+0100
TZOFFSETTO:+0200
TZNAME:CEST
DTSTART:20250330T010000
END:DAYLIGHT
BEGIN:STANDARD
TZOFFSETFROM:+0200
TZOFFSETTO:+0100
TZNAME:CET
DTSTART:20251026T010000
END:STANDARD
END:VTIMEZONE
BEGIN:VEVENT
DTSTART;TZID=Europe/Berlin:20241108T180000
DTEND;TZID=Europe/Berlin:20241108T203000
DTSTAMP:20260423T170535
CREATED:20241006T203413Z
LAST-MODIFIED:20241006T203413Z
UID:5548-1731088800-1731097800@cg-ehningen.de
SUMMARY:FrauenZeit am 8. November 2024
DESCRIPTION:Wir freuen uns auf unseren Gemeinsamen FrauenZeit-Abend im November! Ein Abend nur für Frauen\, mit Abendessen\, Lebensbericht\, Spiel & Spaß. Bring gerne deine Freundinnen mit! \nWichtig: Meldet euch bis zum 3. November 24 an unter: frauenzeit@mailbox.org \nFrauenZeit am 8. November
URL:https://cg-ehningen.de/event/frauenzeit-am-8-november-2024/
LOCATION:Christliche Versammlung Sindelfingen\, Stralsunder Straße 6\, Sindelfingen\, Baden-Württemberg\, 71065\, Deutschland
ORGANIZER;CN="Christliche Versammlung Sindelfingen":MAILTO:info@cv-sindelfingen.de
END:VEVENT
END:VCALENDAR