BEGIN:VCALENDAR
VERSION:2.0
PRODID:-//Christliche Versammlung Sindelfingen - ECPv6.15.15//NONSGML v1.0//EN
CALSCALE:GREGORIAN
METHOD:PUBLISH
X-ORIGINAL-URL:https://cg-ehningen.de
X-WR-CALDESC:Veranstaltungen für Christliche Versammlung Sindelfingen
REFRESH-INTERVAL;VALUE=DURATION:PT1H
X-Robots-Tag:noindex
X-PUBLISHED-TTL:PT1H
BEGIN:VTIMEZONE
TZID:Europe/Berlin
BEGIN:DAYLIGHT
TZOFFSETFROM:+0100
TZOFFSETTO:+0200
TZNAME:CEST
DTSTART:20230326T010000
END:DAYLIGHT
BEGIN:STANDARD
TZOFFSETFROM:+0200
TZOFFSETTO:+0100
TZNAME:CET
DTSTART:20231029T010000
END:STANDARD
BEGIN:DAYLIGHT
TZOFFSETFROM:+0100
TZOFFSETTO:+0200
TZNAME:CEST
DTSTART:20240331T010000
END:DAYLIGHT
BEGIN:STANDARD
TZOFFSETFROM:+0200
TZOFFSETTO:+0100
TZNAME:CET
DTSTART:20241027T010000
END:STANDARD
BEGIN:DAYLIGHT
TZOFFSETFROM:+0100
TZOFFSETTO:+0200
TZNAME:CEST
DTSTART:20250330T010000
END:DAYLIGHT
BEGIN:STANDARD
TZOFFSETFROM:+0200
TZOFFSETTO:+0100
TZNAME:CET
DTSTART:20251026T010000
END:STANDARD
END:VTIMEZONE
BEGIN:VEVENT
DTSTART;TZID=Europe/Berlin:20241006T091500
DTEND;TZID=Europe/Berlin:20241006T103000
DTSTAMP:20260423T182403
CREATED:20240930T122043Z
LAST-MODIFIED:20240930T122043Z
UID:5522-1728206100-1728210600@cg-ehningen.de
SUMMARY:Erntedank Gottesdienst 2024
DESCRIPTION:Herzliche Einladung zum Erntedank Gottesdienst am 6. Oktober 2024!\nWir feiern gemeinsam diesen besonderen Erntedank Gottesdienst um unserem Gott für alle Versorgung und seine Treue zu danken! \n \n 
URL:https://cg-ehningen.de/event/erntedank-gottesdienst-2024/
LOCATION:Christliche Versammlung Sindelfingen\, Stralsunder Straße 6\, Sindelfingen\, Baden-Württemberg\, 71065\, Deutschland
ORGANIZER;CN="Christliche Versammlung Sindelfingen":MAILTO:info@cv-sindelfingen.de
END:VEVENT
END:VCALENDAR