BEGIN:VCALENDAR
VERSION:2.0
PRODID:-//Christliche Versammlung Sindelfingen - ECPv6.15.15//NONSGML v1.0//EN
CALSCALE:GREGORIAN
METHOD:PUBLISH
X-ORIGINAL-URL:https://cg-ehningen.de
X-WR-CALDESC:Veranstaltungen für Christliche Versammlung Sindelfingen
REFRESH-INTERVAL;VALUE=DURATION:PT1H
X-Robots-Tag:noindex
X-PUBLISHED-TTL:PT1H
BEGIN:VTIMEZONE
TZID:Europe/Berlin
BEGIN:DAYLIGHT
TZOFFSETFROM:+0100
TZOFFSETTO:+0200
TZNAME:CEST
DTSTART:20230326T010000
END:DAYLIGHT
BEGIN:STANDARD
TZOFFSETFROM:+0200
TZOFFSETTO:+0100
TZNAME:CET
DTSTART:20231029T010000
END:STANDARD
BEGIN:DAYLIGHT
TZOFFSETFROM:+0100
TZOFFSETTO:+0200
TZNAME:CEST
DTSTART:20240331T010000
END:DAYLIGHT
BEGIN:STANDARD
TZOFFSETFROM:+0200
TZOFFSETTO:+0100
TZNAME:CET
DTSTART:20241027T010000
END:STANDARD
BEGIN:DAYLIGHT
TZOFFSETFROM:+0100
TZOFFSETTO:+0200
TZNAME:CEST
DTSTART:20250330T010000
END:DAYLIGHT
BEGIN:STANDARD
TZOFFSETFROM:+0200
TZOFFSETTO:+0100
TZNAME:CET
DTSTART:20251026T010000
END:STANDARD
END:VTIMEZONE
BEGIN:VEVENT
DTSTART;TZID=Europe/Berlin:20240630T110000
DTEND;TZID=Europe/Berlin:20240630T170000
DTSTAMP:20260425T163436
CREATED:20240616T200322Z
LAST-MODIFIED:20240629T115457Z
UID:5391-1719745200-1719766800@cg-ehningen.de
SUMMARY:! ENTFÄLLT ! Gemeinde-Grillnachmittag 30. Juni 2024 ☀️
DESCRIPTION:Wir freuen uns auf das gemeinsame Grillen am Sonntag\, den 30. Juni.\n\n\nWir treffen uns als Gemeinde im Anschluss an den Gottesdienst hier: \n📍Aktivspielplatz Steinenbronn\n71144 Steinenbronn \nhttps://www.aki-steinenbronn.de/Ihr-Weg-zu-uns/ \nBitte mitbringen: \n\nPicknick-Decke\nGetränke\nGeschirr\nGrillfleisch\nBeitrag zum Buffet (Beilage oder Nachtisch)\n\nWir freuen uns auf Dein Kommen und auf die Gemeinschaft –\nauch mit der Christlichen Versammlung Holzgerlingen. 😊
URL:https://cg-ehningen.de/event/gemeinde-grillnachmittag-30-juni-2024/
LOCATION:Aktionsspielplatz Steinenbronn\, Steinenbronn\, 71144
ORGANIZER;CN="Christliche Versammlung Sindelfingen":MAILTO:info@cv-sindelfingen.de
END:VEVENT
END:VCALENDAR